BEGIN:VCALENDAR
VERSION:2.0
PRODID:-//bsa-fas.ch Events Calendar//www.bsa-fas.ch//
BEGIN:VEVENT
SUMMARY:Mitgliederversammlung September - Buchvernissage
DTSTART:20210916T180000
DTEND:20210916T200000
DTSTAMP:20210916T200000Z
UID:512.event.events.ch.bsa-fas.www
END:VEVENT
END:VCALENDAR
