BEGIN:VCALENDAR
VERSION:2.0
PRODID:-//bsa-fas.ch Events Calendar//www.bsa-fas.ch//
BEGIN:VEVENT
SUMMARY:Chefbeamtentagung «Stadtbildkommissionen»
DTSTART:20170922T100000
DTEND:20170922T160000
DTSTAMP:20170922T160000Z
UID:50.event.events.ch.bsa-fas.www
END:VEVENT
END:VCALENDAR
