BEGIN:VCALENDAR
VERSION:2.0
PRODID:-//bsa-fas.ch Events Calendar//www.bsa-fas.ch//
BEGIN:VEVENT
SUMMARY:Begehung Sanierung und Umbau Wohn-/Geschäftshaus Rheinfelden
DTSTART:20200916T170000
DTEND:20200916T200000
DTSTAMP:20200916T200000Z
UID:496.event.events.ch.bsa-fas.www
LOCATION:Fröschweid 9\,  4310 Rheinfelden
END:VEVENT
END:VCALENDAR
