BEGIN:VCALENDAR
VERSION:2.0
PRODID:-//bsa-fas.ch Events Calendar//www.bsa-fas.ch//
BEGIN:VEVENT
SUMMARY:sia Sektion Bern – 5 à 7\, Überbauung VIDMARplus und Carba-Are
 al\, Liebefeld
DTSTART:20200902T170000
DTEND:20200902T190000
DTSTAMP:20200902T190000Z
UID:492.event.events.ch.bsa-fas.www
LOCATION:Foyer VIDMARhallen\, Könizstrasse 161\, 3097 Liebefeld
END:VEVENT
END:VCALENDAR
