BEGIN:VCALENDAR
VERSION:2.0
PRODID:-//bsa-fas.ch Events Calendar//www.bsa-fas.ch//
BEGIN:VEVENT
SUMMARY:SWB Werkbundwanderung 2020
DTSTART:20200815T073400
DTEND:20200815T200000
DTSTAMP:20200815T200000Z
UID:479.event.events.ch.bsa-fas.www
LOCATION:Brig / Naters / Ried-Mörel
END:VEVENT
END:VCALENDAR
