BEGIN:VCALENDAR
VERSION:2.0
PRODID:-//bsa-fas.ch Events Calendar//www.bsa-fas.ch//
BEGIN:VEVENT
SUMMARY:BSA Ostschweiz - Mitgliederversammlung April 2020 (verschoben)
DTSTART:20200421T180000
DTEND:20200421T220000
DTSTAMP:20200421T220000Z
UID:469.event.events.ch.bsa-fas.www
END:VEVENT
END:VCALENDAR
