BEGIN:VCALENDAR
VERSION:2.0
PRODID:-//bsa-fas.ch Events Calendar//www.bsa-fas.ch//
BEGIN:VEVENT
SUMMARY:LAC 2020 : St Gingolph\, la frontière
DTSTART:20200705T100000
DTEND:20200705T160000
DTSTAMP:20200705T160000Z
UID:455.event.events.ch.bsa-fas.www
LOCATION:St Gingolph
END:VEVENT
END:VCALENDAR
