BEGIN:VCALENDAR
VERSION:2.0
PRODID:-//bsa-fas.ch Events Calendar//www.bsa-fas.ch//
BEGIN:VEVENT
SUMMARY:Freiburger Architekturforum – Lilitt Bollinger\, Basel
DTSTART:20200331T183000
DTEND:20200331T203000
DTSTAMP:20200331T203000Z
UID:446.event.events.ch.bsa-fas.www
LOCATION:Nouveau Monde\, Fribourg
END:VEVENT
END:VCALENDAR
