BEGIN:VCALENDAR
VERSION:2.0
PRODID:-//bsa-fas.ch Events Calendar//www.bsa-fas.ch//
BEGIN:VEVENT
SUMMARY:Visite VD
DTSTART:20190718T123000
DTEND:20190718T140000
DTSTAMP:20190718T140000Z
UID:410.event.events.ch.bsa-fas.www
LOCATION:Château de Chillon
END:VEVENT
END:VCALENDAR
