BEGIN:VCALENDAR
VERSION:2.0
PRODID:-//bsa-fas.ch Events Calendar//www.bsa-fas.ch//
BEGIN:VEVENT
SUMMARY:SWB – Robert-Walser-Sculpture Biel
DTSTART:20190905T174500
DTEND:20190905T190000
DTSTAMP:20190905T190000Z
UID:409.event.events.ch.bsa-fas.www
LOCATION:Bahnhofplatz Biel unter der Passarelle
END:VEVENT
END:VCALENDAR
