BEGIN:VCALENDAR
VERSION:2.0
PRODID:-//bsa-fas.ch Events Calendar//www.bsa-fas.ch//
BEGIN:VEVENT
SUMMARY:sia Sektion Bern – Besichtigung Ersatzneubau Volksschule Stapfen
 acker
DTSTART:20191113T170000
DTEND:20191113T190000
DTSTAMP:20191113T190000Z
UID:408.event.events.ch.bsa-fas.www
LOCATION:Neubau Volksschule Stapfenacker\, Winterfeldweg 15\, Bern
END:VEVENT
END:VCALENDAR
