BEGIN:VCALENDAR
VERSION:2.0
PRODID:-//bsa-fas.ch Events Calendar//www.bsa-fas.ch//
BEGIN:VEVENT
SUMMARY:sia Sektion Bern – Besichtigung Neubau Volksschule Marzili
DTSTART:20191106T170000
DTEND:20191106T190000
DTSTAMP:20191106T190000Z
UID:407.event.events.ch.bsa-fas.www
LOCATION:Neubau Volksschule Marzili\, Brückenstrasse 71F\, Bern
END:VEVENT
END:VCALENDAR
