BEGIN:VCALENDAR
VERSION:2.0
PRODID:-//bsa-fas.ch Events Calendar//www.bsa-fas.ch//
BEGIN:VEVENT
SUMMARY:Nike – Denkmäler geben den Ton an. Klangspaziergänge in Bern
DTSTART:20190523T173000
DTEND:20190523T213000
DTSTAMP:20190523T213000Z
UID:385.event.events.ch.bsa-fas.www
LOCATION:Stadt Bern
END:VEVENT
END:VCALENDAR
