BEGIN:VCALENDAR
VERSION:2.0
PRODID:-//bsa-fas.ch Events Calendar//www.bsa-fas.ch//
BEGIN:VEVENT
SUMMARY:Monatsveranstaltung + Aufnahmesitzung
DTSTART:20171130T183000
DTEND:20171130T210000
DTSTAMP:20171130T210000Z
UID:38.event.events.ch.bsa-fas.www
END:VEVENT
END:VCALENDAR
