BEGIN:VCALENDAR
VERSION:2.0
PRODID:-//bsa-fas.ch Events Calendar//www.bsa-fas.ch//
BEGIN:VEVENT
SUMMARY:sia Sektion Bern\, 5à7 – Institutsgebäude und Freihandbiblioth
 ek Uni Mittelstrasse
DTSTART:20181107T170000
DTEND:20181107T190000
DTSTAMP:20181107T190000Z
UID:283.event.events.ch.bsa-fas.www
LOCATION:Haupteingang Mittelstrasse 43\, Bern
END:VEVENT
END:VCALENDAR
