BEGIN:VCALENDAR
VERSION:2.0
PRODID:-//bsa-fas.ch Events Calendar//www.bsa-fas.ch//
BEGIN:VEVENT
SUMMARY:sia Sektion Bern – 5à7\, Hochschulzentrum vonRoll\, Bern versch
 ränkender dialog
DTSTART:20180912T170000
DTEND:20180912T190000
DTSTAMP:20180912T190000Z
UID:268.event.events.ch.bsa-fas.www
LOCATION:Foyer Musikhaus\, Fabrikstrasse 4\, 3012 Bern
END:VEVENT
END:VCALENDAR
