BEGIN:VCALENDAR
VERSION:2.0
PRODID:-//bsa-fas.ch Events Calendar//www.bsa-fas.ch//
BEGIN:VEVENT
SUMMARY:Mitgliederversammlung April
DTSTART:20180424T133000
DTEND:20180424T193000
DTSTAMP:20180424T193000Z
UID:191.event.events.ch.bsa-fas.www
END:VEVENT
END:VCALENDAR
