BEGIN:VCALENDAR
VERSION:2.0
PRODID:-//bsa-fas.ch Events Calendar//www.bsa-fas.ch//
BEGIN:VEVENT
SUMMARY:Architekturforum Thun - Dokumentarfilm "THE COMPETITION"
DTSTART:20180124T183000
DTEND:20180124T200000
DTSTAMP:20180124T200000Z
UID:171.event.events.ch.bsa-fas.www
END:VEVENT
END:VCALENDAR
