BEGIN:VCALENDAR
VERSION:2.0
PRODID:-//bsa-fas.ch Events Calendar//www.bsa-fas.ch//
BEGIN:VEVENT
SUMMARY:Architekturforum Biel - Andreas Vass: Vortrag über A. Loos mit Th
 eater
DTSTART:20180501T183000
DTEND:20180501T200000
DTSTAMP:20180501T200000Z
UID:148.event.events.ch.bsa-fas.www
LOCATION:Farelhaus\, Oberer Quai 12\, 2502 Biel
END:VEVENT
END:VCALENDAR
