BEGIN:VCALENDAR
VERSION:2.0
PRODID:-//bsa-fas.ch Events Calendar//www.bsa-fas.ch//
BEGIN:VEVENT
SUMMARY:prochaine assemblée et visite des logements La Chapelle 2
DTSTART:20171213T115918
DTEND:20171213T115918
DTSTAMP:20171213T115918Z
UID:125.event.events.ch.bsa-fas.www
END:VEVENT
END:VCALENDAR
