BEGIN:VCALENDAR
VERSION:2.0
PRODID:-//bsa-fas.ch Events Calendar//www.bsa-fas.ch//
BEGIN:VEVENT
SUMMARY:Architektonischer Stadtspaziergang durch Brig-Glis "Heidi + Peter 
 Wenger"
DTSTART:20171111T093000
DTEND:20171111T113000
DTSTAMP:20171111T113000Z
UID:119.event.events.ch.bsa-fas.www
END:VEVENT
END:VCALENDAR
