BEGIN:VCALENDAR
VERSION:2.0
PRODID:-//bsa-fas.ch Events Calendar//www.bsa-fas.ch//
BEGIN:VEVENT
SUMMARY:BSA Bern Mitgliederversammlung
DTSTART:20171206T213336
DTEND:20171206T213336
DTSTAMP:20171206T213336Z
UID:10.event.events.ch.bsa-fas.www
END:VEVENT
END:VCALENDAR
